BEGIN:VCALENDAR
VERSION:2.0
PRODID:-//Erie County Board of Developmental Disabilities - ECPv6.15.20//NONSGML v1.0//EN
CALSCALE:GREGORIAN
METHOD:PUBLISH
X-ORIGINAL-URL:https://www.eriecbdd.org
X-WR-CALDESC:Events for Erie County Board of Developmental Disabilities
REFRESH-INTERVAL;VALUE=DURATION:PT1H
X-Robots-Tag:noindex
X-PUBLISHED-TTL:PT1H
BEGIN:VTIMEZONE
TZID:America/New_York
BEGIN:DAYLIGHT
TZOFFSETFROM:-0500
TZOFFSETTO:-0400
TZNAME:EDT
DTSTART:20240310T070000
END:DAYLIGHT
BEGIN:STANDARD
TZOFFSETFROM:-0400
TZOFFSETTO:-0500
TZNAME:EST
DTSTART:20241103T060000
END:STANDARD
BEGIN:DAYLIGHT
TZOFFSETFROM:-0500
TZOFFSETTO:-0400
TZNAME:EDT
DTSTART:20250309T070000
END:DAYLIGHT
BEGIN:STANDARD
TZOFFSETFROM:-0400
TZOFFSETTO:-0500
TZNAME:EST
DTSTART:20251102T060000
END:STANDARD
BEGIN:DAYLIGHT
TZOFFSETFROM:-0500
TZOFFSETTO:-0400
TZNAME:EDT
DTSTART:20260308T070000
END:DAYLIGHT
BEGIN:STANDARD
TZOFFSETFROM:-0400
TZOFFSETTO:-0500
TZNAME:EST
DTSTART:20261101T060000
END:STANDARD
END:VTIMEZONE
BEGIN:VEVENT
DTSTART;TZID=America/New_York:20250501T103000
DTEND;TZID=America/New_York:20250501T123000
DTSTAMP:20260424T083905
CREATED:20240422T142552Z
LAST-MODIFIED:20250415T133630Z
UID:12798-1746095400-1746102600@www.eriecbdd.org
SUMMARY:1. Hike the Castalia Quarry: Lakeside Daisy
DESCRIPTION:THURSDAY\, MAY 1\n10:30 AM TO 12:30 PM\nCASTALIA QUARRY RESERVE \n\nHike the Castalia  Quarry with Metro Park staff \nSee and learn about the rare Lakeside Daisy\nWear close toed shoes and dress for the weather\nGet your steps in for the day\n\n*ALL PARTICIPANTS MUST REGISTER IN ADVANCE FOR IN-PERSON ACTIVITIES. PLEASE USE (419) 502-4180 OR COMMUNITYCONNECTIONS@ERIECBDD.ORG TO REGISTER.\nRegistration through community connections is for Individuals receiving our services*
URL:https://www.eriecbdd.org/event/8-lakeside-daisy-walk-at-the-quarry/
LOCATION:Castalia Quarry\, 804 State Rt 101\, Castalia\, OH\, 44824
ATTACH;FMTTYPE=image/jpeg:https://www.eriecbdd.org/wp-content/uploads/2024/12/Hiking.jpg
END:VEVENT
BEGIN:VEVENT
DTSTART;TZID=America/New_York:20250501T133000
DTEND;TZID=America/New_York:20250501T140000
DTSTAMP:20260424T083905
CREATED:20250415T134449Z
LAST-MODIFIED:20250415T134449Z
UID:15097-1746106200-1746108000@www.eriecbdd.org
SUMMARY:2. Ice Cream and Ice Breakers Session 1
DESCRIPTION:THURSDAY\, MAY 1\n1:30 PM TO 3:00 PM\nTOFT’S ON 250\, SANDUSKY  \n$10.00 \n\nThemed icebreaker questions\nMoney is for your purchase\n\n*ALL PARTICIPANTS MUST REGISTER IN ADVANCE FOR IN-PERSON ACTIVITIES. PLEASE USE (419) 502-4180 OR COMMUNITYCONNECTIONS@ERIECBDD.ORG TO REGISTER.\nRegistration through community connections is for Individuals receiving our services*
URL:https://www.eriecbdd.org/event/2-ice-cream-and-ice-breakers-session-1/
LOCATION:Toft’s on 250\, 4318 Milan Rd\, Sandusky\, OH\, 44870
ATTACH;FMTTYPE=image/jpeg:https://www.eriecbdd.org/wp-content/uploads/2024/12/Ice-Cream.jpg
END:VEVENT
BEGIN:VEVENT
DTSTART;TZID=America/New_York:20250501T153000
DTEND;TZID=America/New_York:20250501T183000
DTSTAMP:20260424T083905
CREATED:20250415T135138Z
LAST-MODIFIED:20250415T135138Z
UID:15103-1746113400-1746124200@www.eriecbdd.org
SUMMARY:3. OHgo Mobile Food Pantry Volunteer
DESCRIPTION:THURSDAY\, MAY 1\n3:30 PM TO 6:30 PM\nVARIOUS PARKS\, SANDUSKY\nMEET @ ERIE CBDD \n\nGive back to the community\nMeet new people\nDress for the weather\n\n*ALL PARTICIPANTS MUST REGISTER IN ADVANCE FOR IN-PERSON ACTIVITIES. PLEASE USE (419) 502-4180 OR COMMUNITYCONNECTIONS@ERIECBDD.ORG TO REGISTER.\nRegistration through community connections is for Individuals receiving our services*
URL:https://www.eriecbdd.org/event/3-ohgo-mobile-food-pantry-volunteer/
LOCATION:Erie County Board of Developmental Disabilities\, 4405 Galloway Rd\, Sandusky\, OH\, 44870
ATTACH;FMTTYPE=image/jpeg:https://www.eriecbdd.org/wp-content/uploads/2024/12/Give-Back.jpg
END:VEVENT
END:VCALENDAR