BEGIN:VCALENDAR
VERSION:2.0
PRODID:-//Erie County Board of Developmental Disabilities - ECPv6.15.20//NONSGML v1.0//EN
CALSCALE:GREGORIAN
METHOD:PUBLISH
X-ORIGINAL-URL:https://www.eriecbdd.org
X-WR-CALDESC:Events for Erie County Board of Developmental Disabilities
REFRESH-INTERVAL;VALUE=DURATION:PT1H
X-Robots-Tag:noindex
X-PUBLISHED-TTL:PT1H
BEGIN:VTIMEZONE
TZID:America/New_York
BEGIN:DAYLIGHT
TZOFFSETFROM:-0500
TZOFFSETTO:-0400
TZNAME:EDT
DTSTART:20240310T070000
END:DAYLIGHT
BEGIN:STANDARD
TZOFFSETFROM:-0400
TZOFFSETTO:-0500
TZNAME:EST
DTSTART:20241103T060000
END:STANDARD
BEGIN:DAYLIGHT
TZOFFSETFROM:-0500
TZOFFSETTO:-0400
TZNAME:EDT
DTSTART:20250309T070000
END:DAYLIGHT
BEGIN:STANDARD
TZOFFSETFROM:-0400
TZOFFSETTO:-0500
TZNAME:EST
DTSTART:20251102T060000
END:STANDARD
BEGIN:DAYLIGHT
TZOFFSETFROM:-0500
TZOFFSETTO:-0400
TZNAME:EDT
DTSTART:20260308T070000
END:DAYLIGHT
BEGIN:STANDARD
TZOFFSETFROM:-0400
TZOFFSETTO:-0500
TZNAME:EST
DTSTART:20261101T060000
END:STANDARD
END:VTIMEZONE
BEGIN:VEVENT
DTSTART;TZID=America/New_York:20250506T130000
DTEND;TZID=America/New_York:20250506T143000
DTSTAMP:20260424T083841
CREATED:20250415T141031Z
LAST-MODIFIED:20250415T141031Z
UID:15121-1746536400-1746541800@www.eriecbdd.org
SUMMARY:10. Practice & Play Pickleball
DESCRIPTION:TUESDAY\, MAY 6\n1:00 PM TO 2:30 PM\nOSBORN METRO PARK\, HURON \n\nPractice & play pickleball\nBring racket & balls if you have them (limited supplies provided\, it is recommended you bring your own)\nDress to be outside\, bring water\n\n*ALL PARTICIPANTS MUST REGISTER IN ADVANCE FOR IN-PERSON ACTIVITIES. PLEASE USE (419) 502-4180 OR COMMUNITYCONNECTIONS@ERIECBDD.ORG TO REGISTER.\nRegistration through community connections is for Individuals receiving our services*
URL:https://www.eriecbdd.org/event/10-practice-play-pickleball-2/
LOCATION:Osborn Park\, 3910 Perkins Avenue\, Huron\, OH\, 44839
ATTACH;FMTTYPE=image/jpeg:https://www.eriecbdd.org/wp-content/uploads/2024/12/Pickleball.jpg
END:VEVENT
BEGIN:VEVENT
DTSTART;TZID=America/New_York:20250506T150000
DTEND;TZID=America/New_York:20250506T200000
DTSTAMP:20260424T083841
CREATED:20250415T141429Z
LAST-MODIFIED:20250415T141429Z
UID:15123-1746543600-1746561600@www.eriecbdd.org
SUMMARY:11. Movie & Dinner: Thunderbolt & Texas Roadhouse
DESCRIPTION:TUESDAY\,  MAY 6\n3:00 PM TO 8:00 PM\nCINEMARK THEATER\, SANDUSKY  \n$35.00 \n\nStart and end time may vary\nMovie is an action\, Marvel adventure\nDinner is at Texas Roadhouse\nCost is for movie and dinner only\, bring extra if you would like to purchase movie snacks\n\n*ALL PARTICIPANTS MUST REGISTER IN ADVANCE FOR IN-PERSON ACTIVITIES. PLEASE USE (419) 502-4180 OR COMMUNITYCONNECTIONS@ERIECBDD.ORG TO REGISTER.\nRegistration through community connections is for Individuals receiving our services*
URL:https://www.eriecbdd.org/event/11-movie-dinner-thunderbolt-texas-roadhouse/
LOCATION:CInemark Stadium\, 4314 MIlan Road\, Sandusky\, OH\, 44870\, United States
ATTACH;FMTTYPE=image/jpeg:https://www.eriecbdd.org/wp-content/uploads/2024/12/Movie-and-Dinner.jpg
END:VEVENT
END:VCALENDAR