BEGIN:VCALENDAR
VERSION:2.0
PRODID:-//Erie County Board of Developmental Disabilities - ECPv6.15.20//NONSGML v1.0//EN
CALSCALE:GREGORIAN
METHOD:PUBLISH
X-WR-CALNAME:Erie County Board of Developmental Disabilities
X-ORIGINAL-URL:https://www.eriecbdd.org
X-WR-CALDESC:Events for Erie County Board of Developmental Disabilities
REFRESH-INTERVAL;VALUE=DURATION:PT1H
X-Robots-Tag:noindex
X-PUBLISHED-TTL:PT1H
BEGIN:VTIMEZONE
TZID:America/New_York
BEGIN:DAYLIGHT
TZOFFSETFROM:-0500
TZOFFSETTO:-0400
TZNAME:EDT
DTSTART:20240310T070000
END:DAYLIGHT
BEGIN:STANDARD
TZOFFSETFROM:-0400
TZOFFSETTO:-0500
TZNAME:EST
DTSTART:20241103T060000
END:STANDARD
BEGIN:DAYLIGHT
TZOFFSETFROM:-0500
TZOFFSETTO:-0400
TZNAME:EDT
DTSTART:20250309T070000
END:DAYLIGHT
BEGIN:STANDARD
TZOFFSETFROM:-0400
TZOFFSETTO:-0500
TZNAME:EST
DTSTART:20251102T060000
END:STANDARD
BEGIN:DAYLIGHT
TZOFFSETFROM:-0500
TZOFFSETTO:-0400
TZNAME:EDT
DTSTART:20260308T070000
END:DAYLIGHT
BEGIN:STANDARD
TZOFFSETFROM:-0400
TZOFFSETTO:-0500
TZNAME:EST
DTSTART:20261101T060000
END:STANDARD
END:VTIMEZONE
BEGIN:VEVENT
DTSTART;TZID=America/New_York:20250513T093000
DTEND;TZID=America/New_York:20250513T120000
DTSTAMP:20260424T083626
CREATED:20250415T150304Z
LAST-MODIFIED:20250415T150304Z
UID:15141-1747128600-1747137600@www.eriecbdd.org
SUMMARY:19. Women Who Roam
DESCRIPTION:TUESDAY\, MAY 13\n9:30 AM TO 12:00 PM\nCASTALIA QUARRY RESERVE \n\n“Women Who Roam” is a new ladies’ hiking club hosted by Erie Metroparks\nHIke the Castalia Quarry with Erie Metroparks and other ladies\nDress for hiking\, wear close-toed shoes\n\n*ALL PARTICIPANTS MUST REGISTER IN ADVANCE FOR IN-PERSON ACTIVITIES. PLEASE USE (419) 502-4180 OR COMMUNITYCONNECTIONS@ERIECBDD.ORG TO REGISTER.\nRegistration through community connections is for Individuals receiving our services*
URL:https://www.eriecbdd.org/event/19-women-who-roam/
LOCATION:Castalia Quarry\, 804 State Rt 101\, Castalia\, OH\, 44824
ATTACH;FMTTYPE=image/jpeg:https://www.eriecbdd.org/wp-content/uploads/2024/12/Hiking.jpg
END:VEVENT
BEGIN:VEVENT
DTSTART;TZID=America/New_York:20250513T150000
DTEND;TZID=America/New_York:20250513T163000
DTSTAMP:20260424T083626
CREATED:20250415T150730Z
LAST-MODIFIED:20250415T150730Z
UID:15143-1747148400-1747153800@www.eriecbdd.org
SUMMARY:20. Huron Art Club
DESCRIPTION:TUESDAY\, MAY 13\n3:00 PM TO 4:30 PM\nHURON LIBRARY\, HURON \n\nInformal art club hosted by the Huron Library\nLibrary provides a topic for our picture\nColor\, draw\, sketch\, etc Jennifer will have limited supplies (or bring your own)\n\n*ALL PARTICIPANTS MUST REGISTER IN ADVANCE FOR IN-PERSON ACTIVITIES. PLEASE USE (419) 502-4180 OR COMMUNITYCONNECTIONS@ERIECBDD.ORG TO REGISTER.\nRegistration through community connections is for Individuals receiving our services*
URL:https://www.eriecbdd.org/event/20-huron-art-club/
LOCATION:Huron Library\, 333 Williams St\, Huron\, OH\, 44839
ATTACH;FMTTYPE=image/jpeg:https://www.eriecbdd.org/wp-content/uploads/2024/12/Art-.jpg
END:VEVENT
END:VCALENDAR