BEGIN:VCALENDAR
VERSION:2.0
PRODID:-//Erie County Board of Developmental Disabilities - ECPv6.15.20//NONSGML v1.0//EN
CALSCALE:GREGORIAN
METHOD:PUBLISH
X-ORIGINAL-URL:https://www.eriecbdd.org
X-WR-CALDESC:Events for Erie County Board of Developmental Disabilities
REFRESH-INTERVAL;VALUE=DURATION:PT1H
X-Robots-Tag:noindex
X-PUBLISHED-TTL:PT1H
BEGIN:VTIMEZONE
TZID:America/New_York
BEGIN:DAYLIGHT
TZOFFSETFROM:-0500
TZOFFSETTO:-0400
TZNAME:EDT
DTSTART:20240310T070000
END:DAYLIGHT
BEGIN:STANDARD
TZOFFSETFROM:-0400
TZOFFSETTO:-0500
TZNAME:EST
DTSTART:20241103T060000
END:STANDARD
BEGIN:DAYLIGHT
TZOFFSETFROM:-0500
TZOFFSETTO:-0400
TZNAME:EDT
DTSTART:20250309T070000
END:DAYLIGHT
BEGIN:STANDARD
TZOFFSETFROM:-0400
TZOFFSETTO:-0500
TZNAME:EST
DTSTART:20251102T060000
END:STANDARD
BEGIN:DAYLIGHT
TZOFFSETFROM:-0500
TZOFFSETTO:-0400
TZNAME:EDT
DTSTART:20260308T070000
END:DAYLIGHT
BEGIN:STANDARD
TZOFFSETFROM:-0400
TZOFFSETTO:-0500
TZNAME:EST
DTSTART:20261101T060000
END:STANDARD
END:VTIMEZONE
BEGIN:VEVENT
DTSTART;TZID=America/New_York:20250519T093000
DTEND;TZID=America/New_York:20250519T113000
DTSTAMP:20260424T084511
CREATED:20250415T190535Z
LAST-MODIFIED:20250415T190535Z
UID:15173-1747647000-1747654200@www.eriecbdd.org
SUMMARY:32. Games and Coffee at Mr. Smith's
DESCRIPTION:MONDAY\, MAY 19\n9:30 AM – 11:30 AM\nMR. SMITH’S COFFEE HOUSE\, SANDUSKY  \n\nJoin us for games and coffee and/or breakfast\nWe will learn some new games!\nBring money if you want to purchase from Mr. Smith’s\n\n\n*ALL PARTICIPANTS MUST REGISTER IN ADVANCE FOR IN-PERSON ACTIVITIES. PLEASE USE (419) 502-4180 OR COMMUNITYCONNECTIONS@ERIECBDD.ORG TO REGISTER.\nRegistration through community connections is for Individuals receiving our services*
URL:https://www.eriecbdd.org/event/32-games-and-coffee-at-mr-smiths/
LOCATION:Mr. Smith’s Coffee House\, 140 Columbus Ave\, Sandusky\, OH\, 44870
ATTACH;FMTTYPE=image/jpeg:https://www.eriecbdd.org/wp-content/uploads/2024/12/Coffee.jpg
END:VEVENT
BEGIN:VEVENT
DTSTART;TZID=America/New_York:20250519T120000
DTEND;TZID=America/New_York:20250519T133000
DTSTAMP:20260424T084511
CREATED:20250415T190746Z
LAST-MODIFIED:20250415T190746Z
UID:15177-1747656000-1747661400@www.eriecbdd.org
SUMMARY:33. Practice & Play Pickleball
DESCRIPTION:MONDAY\, MAY 19\n12:00 PM TO 1:30 PM\nOSBORN METRO PARK\, HURON \n\nPractice & play pickleball\nBring racket & balls if you have them (limited supplies provided\, it is recommended you bring your own)\nDress to be outside\, bring water\n\n*ALL PARTICIPANTS MUST REGISTER IN ADVANCE FOR IN-PERSON ACTIVITIES. PLEASE USE (419) 502-4180 OR COMMUNITYCONNECTIONS@ERIECBDD.ORG TO REGISTER.\nRegistration through community connections is for Individuals receiving our services*
URL:https://www.eriecbdd.org/event/33-practice-play-pickleball/
LOCATION:Osborn Park\, 3910 Perkins Avenue\, Huron\, OH\, 44839
ATTACH;FMTTYPE=image/jpeg:https://www.eriecbdd.org/wp-content/uploads/2024/12/Pickleball.jpg
END:VEVENT
BEGIN:VEVENT
DTSTART;TZID=America/New_York:20250519T143000
DTEND;TZID=America/New_York:20250519T153000
DTSTAMP:20260424T084511
CREATED:20250415T192000Z
LAST-MODIFIED:20250415T192000Z
UID:15179-1747665000-1747668600@www.eriecbdd.org
SUMMARY:34. Beyond the Book: Book Club
DESCRIPTION:MONDAY\, MAY 19\n2:30 PM TO 3:30 PM\nSANDUSKY LIBRARY \n\nWe will be reading the book\, “Twilight”\nJoin us at the library for some reading fun and discussion\n\n*ALL PARTICIPANTS MUST REGISTER IN ADVANCE FOR IN-PERSON ACTIVITIES. PLEASE USE (419) 502-4180 OR COMMUNITYCONNECTIONS@ERIECBDD.ORG TO REGISTER.\nRegistration through community connections is for Individuals receiving our services*
URL:https://www.eriecbdd.org/event/34-beyond-the-book-book-club/
LOCATION:Sandusky Library\, 114 West Adams St\, Sandusky\, OH\, 44870
ATTACH;FMTTYPE=image/jpeg:https://www.eriecbdd.org/wp-content/uploads/2024/12/Book.jpg
END:VEVENT
END:VCALENDAR