BEGIN:VCALENDAR
VERSION:2.0
PRODID:-//Erie County Board of Developmental Disabilities - ECPv6.15.20//NONSGML v1.0//EN
CALSCALE:GREGORIAN
METHOD:PUBLISH
X-WR-CALNAME:Erie County Board of Developmental Disabilities
X-ORIGINAL-URL:https://www.eriecbdd.org
X-WR-CALDESC:Events for Erie County Board of Developmental Disabilities
REFRESH-INTERVAL;VALUE=DURATION:PT1H
X-Robots-Tag:noindex
X-PUBLISHED-TTL:PT1H
BEGIN:VTIMEZONE
TZID:America/New_York
BEGIN:DAYLIGHT
TZOFFSETFROM:-0500
TZOFFSETTO:-0400
TZNAME:EDT
DTSTART:20240310T070000
END:DAYLIGHT
BEGIN:STANDARD
TZOFFSETFROM:-0400
TZOFFSETTO:-0500
TZNAME:EST
DTSTART:20241103T060000
END:STANDARD
BEGIN:DAYLIGHT
TZOFFSETFROM:-0500
TZOFFSETTO:-0400
TZNAME:EDT
DTSTART:20250309T070000
END:DAYLIGHT
BEGIN:STANDARD
TZOFFSETFROM:-0400
TZOFFSETTO:-0500
TZNAME:EST
DTSTART:20251102T060000
END:STANDARD
BEGIN:DAYLIGHT
TZOFFSETFROM:-0500
TZOFFSETTO:-0400
TZNAME:EDT
DTSTART:20260308T070000
END:DAYLIGHT
BEGIN:STANDARD
TZOFFSETFROM:-0400
TZOFFSETTO:-0500
TZNAME:EST
DTSTART:20261101T060000
END:STANDARD
END:VTIMEZONE
BEGIN:VEVENT
DTSTART;TZID=America/New_York:20250604T100000
DTEND;TZID=America/New_York:20250604T133000
DTSTAMP:20260424T143703
CREATED:20250515T144835Z
LAST-MODIFIED:20250515T144835Z
UID:15387-1749031200-1749043800@www.eriecbdd.org
SUMMARY:7. Deer Park Adventure
DESCRIPTION:WEDNESDAY\, JUNE 4\n10:00 AM TO 1:30 PM\nLAGOON DEER PARK\, SANDUSKY \n\nCost is for lunch at Jolly Donut and admission to Deer Park\nFeed and pet the deer and see the animals up close\nBring extra money for other purchases\n\n*ALL PARTICIPANTS MUST REGISTER IN ADVANCE FOR IN-PERSON ACTIVITIES. PLEASE USE (419) 502-4180 OR COMMUNITYCONNECTIONS@ERIECBDD.ORG TO REGISTER.\nRegistration through community connections is for Individuals receiving our services*
URL:https://www.eriecbdd.org/event/7-deer-park-adventure/
LOCATION:Lagoon Deer Park\, 1012 Martin's Point Rd\, Sandusky\, OH\, 44870
END:VEVENT
BEGIN:VEVENT
DTSTART;TZID=America/New_York:20250604T153000
DTEND;TZID=America/New_York:20250604T170000
DTSTAMP:20260424T143703
CREATED:20250515T145330Z
LAST-MODIFIED:20250515T145330Z
UID:15390-1749051000-1749056400@www.eriecbdd.org
SUMMARY:8. Survival Cooking
DESCRIPTION:WEDNESDAY\,  JUNE 4\n3:30 PM TO 5:00 PM\nECBDD TECH HOME\, SANDUSKY \n\nWe will be making Air Fryer Cheeseburgers\nSurvival cooking is easy\, delicious meals with minimal ingredients\nEasy to read recipies and cookbooks will be handed out to take home and use\nEveryone pitches in for cleanup\n\n*ALL PARTICIPANTS MUST REGISTER IN ADVANCE FOR IN-PERSON ACTIVITIES. PLEASE USE (419) 502-4180 OR COMMUNITYCONNECTIONS@ERIECBDD.ORG TO REGISTER.\nRegistration through community connections is for Individuals receiving our services*
URL:https://www.eriecbdd.org/event/8-survival-cooking/
LOCATION:Tech Home\, 2205 Campbell St\, Sandusky\, OH\, 44870\, United States
ATTACH;FMTTYPE=image/jpeg:https://www.eriecbdd.org/wp-content/uploads/2024/12/Cooking.jpg
END:VEVENT
BEGIN:VEVENT
DTSTART;TZID=America/New_York:20250604T163000
DTEND;TZID=America/New_York:20250604T193000
DTSTAMP:20260424T143703
CREATED:20250515T161756Z
LAST-MODIFIED:20250515T161756Z
UID:15392-1749054600-1749065400@www.eriecbdd.org
SUMMARY:9. Canoe Ride at Old Woman Creek
DESCRIPTION:WEDNESDAY\, JUNE 4\n4:30 PM TO 7:30 PM\nOLD WOMAN CREEK\, HURON \n\nExplore Old Woman Creek waterways by canoe ride\nThose bringing their own canoe or kayak also welcome (please let us know when you register)\nAdditional participants may be added depending on their skill level and experience\n\n*ALL PARTICIPANTS MUST REGISTER IN ADVANCE FOR IN-PERSON ACTIVITIES. PLEASE USE (419) 502-4180 OR COMMUNITYCONNECTIONS@ERIECBDD.ORG TO REGISTER.\nRegistration through community connections is for Individuals receiving our services*
URL:https://www.eriecbdd.org/event/9-canoe-ride-at-old-woman-creek-2/
LOCATION:Old Woman Creek\, 2514 Cleveland Rd E\, Huron\, OH\, 44839
ATTACH;FMTTYPE=image/jpeg:https://www.eriecbdd.org/wp-content/uploads/2024/12/Canoe-Rides.jpg
END:VEVENT
END:VCALENDAR