BEGIN:VCALENDAR
VERSION:2.0
PRODID:-//Erie County Board of Developmental Disabilities - ECPv6.15.20//NONSGML v1.0//EN
CALSCALE:GREGORIAN
METHOD:PUBLISH
X-WR-CALNAME:Erie County Board of Developmental Disabilities
X-ORIGINAL-URL:https://www.eriecbdd.org
X-WR-CALDESC:Events for Erie County Board of Developmental Disabilities
REFRESH-INTERVAL;VALUE=DURATION:PT1H
X-Robots-Tag:noindex
X-PUBLISHED-TTL:PT1H
BEGIN:VTIMEZONE
TZID:America/New_York
BEGIN:DAYLIGHT
TZOFFSETFROM:-0500
TZOFFSETTO:-0400
TZNAME:EDT
DTSTART:20240310T070000
END:DAYLIGHT
BEGIN:STANDARD
TZOFFSETFROM:-0400
TZOFFSETTO:-0500
TZNAME:EST
DTSTART:20241103T060000
END:STANDARD
BEGIN:DAYLIGHT
TZOFFSETFROM:-0500
TZOFFSETTO:-0400
TZNAME:EDT
DTSTART:20250309T070000
END:DAYLIGHT
BEGIN:STANDARD
TZOFFSETFROM:-0400
TZOFFSETTO:-0500
TZNAME:EST
DTSTART:20251102T060000
END:STANDARD
BEGIN:DAYLIGHT
TZOFFSETFROM:-0500
TZOFFSETTO:-0400
TZNAME:EDT
DTSTART:20260308T070000
END:DAYLIGHT
BEGIN:STANDARD
TZOFFSETFROM:-0400
TZOFFSETTO:-0500
TZNAME:EST
DTSTART:20261101T060000
END:STANDARD
END:VTIMEZONE
BEGIN:VEVENT
DTSTART;TZID=America/New_York:20250605T103000
DTEND;TZID=America/New_York:20250605T163000
DTSTAMP:20260424T160248
CREATED:20250515T175702Z
LAST-MODIFIED:20250515T175702Z
UID:15395-1749119400-1749141000@www.eriecbdd.org
SUMMARY:10. B.A. Sweeties & Golfland Park
DESCRIPTION:THURSDAY\, JUNE 5\n10:30 AM TO 4:30 PM\nSWEETIES GOLFLAND\, CLEVELAND\nMEET @ ERIE CBDD \n\nWe will visit the largest candy store in Ohio\nLunch will be at the City Diner\nWe will play one round of golf at Golfland\nCost is for golf and lunch\, bring extra money for any purchases\n\n*ALL PARTICIPANTS MUST REGISTER IN ADVANCE FOR IN-PERSON ACTIVITIES. PLEASE USE (419) 502-4180 OR COMMUNITYCONNECTIONS@ERIECBDD.ORG TO REGISTER.\nRegistration through community connections is for Individuals receiving our services*
URL:https://www.eriecbdd.org/event/10-b-a-sweeties-golfland-park/
LOCATION:Sweeties Golfland\, 6770 Brookpark Rd\, Cleveland\, OH\, 44129
ATTACH;FMTTYPE=image/jpeg:https://www.eriecbdd.org/wp-content/uploads/2024/12/Golf.jpg
END:VEVENT
BEGIN:VEVENT
DTSTART;TZID=America/New_York:20250605T163000
DTEND;TZID=America/New_York:20250605T180000
DTSTAMP:20260424T160248
CREATED:20250515T180520Z
LAST-MODIFIED:20250515T180520Z
UID:15397-1749141000-1749146400@www.eriecbdd.org
SUMMARY:11. ‘OMG’ Games
DESCRIPTION:THURSDAY\, JUNE 5\n4:30 PM TO 6:00 PM\nDOCKSIDE CAFE\, SANDUSKY \n\nOMG games to make you laugh and blush\nEnjoy adult themed games and dinner/drinks at Dockside\nBring money for any food/drink you may purchase\n\n*ALL PARTICIPANTS MUST REGISTER IN ADVANCE FOR IN-PERSON ACTIVITIES. PLEASE USE (419) 502-4180 OR COMMUNITYCONNECTIONS@ERIECBDD.ORG TO REGISTER.\nRegistration through community connections is only for individuals receiving our services*
URL:https://www.eriecbdd.org/event/11-omg-games/
LOCATION:Dockside Cafe\, 611 W Shoreline Dr\, Sandusky\, OH\, 44870
ATTACH;FMTTYPE=image/jpeg:https://www.eriecbdd.org/wp-content/uploads/2025/05/OMG-Games.jpg
END:VEVENT
BEGIN:VEVENT
DTSTART;TZID=America/New_York:20250605T183000
DTEND;TZID=America/New_York:20250605T203000
DTSTAMP:20260424T160248
CREATED:20250515T181409Z
LAST-MODIFIED:20250515T181409Z
UID:15400-1749148200-1749155400@www.eriecbdd.org
SUMMARY:12. Happy Thursday Bike Ride
DESCRIPTION:THURSDAY\, JUNE 5\n6:30 PM TO 8:30 PM\nVITA\, SANDUSKY \n\nWeekly Thursday night bike ride with music and fun\nTheme this week is plants and flowers\nMust bring your own bike (and water)\nGood bike and safety skills are needed\, must be able to keep pace with the group\nCommunity bike ride\, friends and family are welcome\nRide is about 1 hour around Sandusky\n\n*ALL PARTICIPANTS MUST REGISTER IN ADVANCE FOR IN-PERSON ACTIVITIES. PLEASE USE (419) 502-4180 OR COMMUNITYCONNECTIONS@ERIECBDD.ORG TO REGISTER.\nRegistration through community connections is for Individuals receiving our services*
URL:https://www.eriecbdd.org/event/12-happy-thursday-bike-ride/
LOCATION:Vita\, 256 Columbus Ave\, Sandusky\, OH\, 44870
ATTACH;FMTTYPE=image/jpeg:https://www.eriecbdd.org/wp-content/uploads/2024/12/Bike.jpg
END:VEVENT
END:VCALENDAR