BEGIN:VCALENDAR
VERSION:2.0
PRODID:-//Erie County Board of Developmental Disabilities - ECPv6.15.20//NONSGML v1.0//EN
CALSCALE:GREGORIAN
METHOD:PUBLISH
X-WR-CALNAME:Erie County Board of Developmental Disabilities
X-ORIGINAL-URL:https://www.eriecbdd.org
X-WR-CALDESC:Events for Erie County Board of Developmental Disabilities
REFRESH-INTERVAL;VALUE=DURATION:PT1H
X-Robots-Tag:noindex
X-PUBLISHED-TTL:PT1H
BEGIN:VTIMEZONE
TZID:America/New_York
BEGIN:DAYLIGHT
TZOFFSETFROM:-0500
TZOFFSETTO:-0400
TZNAME:EDT
DTSTART:20240310T070000
END:DAYLIGHT
BEGIN:STANDARD
TZOFFSETFROM:-0400
TZOFFSETTO:-0500
TZNAME:EST
DTSTART:20241103T060000
END:STANDARD
BEGIN:DAYLIGHT
TZOFFSETFROM:-0500
TZOFFSETTO:-0400
TZNAME:EDT
DTSTART:20250309T070000
END:DAYLIGHT
BEGIN:STANDARD
TZOFFSETFROM:-0400
TZOFFSETTO:-0500
TZNAME:EST
DTSTART:20251102T060000
END:STANDARD
BEGIN:DAYLIGHT
TZOFFSETFROM:-0500
TZOFFSETTO:-0400
TZNAME:EDT
DTSTART:20260308T070000
END:DAYLIGHT
BEGIN:STANDARD
TZOFFSETFROM:-0400
TZOFFSETTO:-0500
TZNAME:EST
DTSTART:20261101T060000
END:STANDARD
END:VTIMEZONE
BEGIN:VEVENT
DTSTART;TZID=America/New_York:20250702T103000
DTEND;TZID=America/New_York:20250702T123000
DTSTAMP:20260425T101120
CREATED:20250618T171740Z
LAST-MODIFIED:20250618T171740Z
UID:15616-1751452200-1751459400@www.eriecbdd.org
SUMMARY:3. Watermelon Wednesday: Canvas Painting
DESCRIPTION:WEDNESDAY\, JULY 2\n10:30 AM TO 12:00 PM\nSHORELINE PARK\, SANDUSKY \n\nWatermelon Wednesday: fun theme for July\nCreate a cute watermelon painting on canvas\n\n*ALL PARTICIPANTS MUST REGISTER IN ADVANCE FOR IN-PERSON ACTIVITIES. PLEASE USE (419) 502-4180 OR COMMUNITYCONNECTIONS@ERIECBDD.ORG TO REGISTER.\nRegistration through community connections is for Individuals receiving our services*
URL:https://www.eriecbdd.org/event/3-watermelon-wednesday-canvas-painting/
LOCATION:Shoreline Park\, 411 E. Shoreline Dr\, Sandusky\, OH\, 44870
ATTACH;FMTTYPE=image/jpeg:https://www.eriecbdd.org/wp-content/uploads/2025/06/Watermelon-1.jpg
END:VEVENT
BEGIN:VEVENT
DTSTART;TZID=America/New_York:20250702T153000
DTEND;TZID=America/New_York:20250702T170000
DTSTAMP:20260425T101120
CREATED:20250618T174500Z
LAST-MODIFIED:20250618T174500Z
UID:15619-1751470200-1751475600@www.eriecbdd.org
SUMMARY:4. Survival Cooking
DESCRIPTION:WEDNESDAY\,  JULY 2\n3:30 PM TO 5:00 PM\nECBDD TECH HOME\, SANDUSKY \n\nWe will be making Watermelon Salsa with Tortilla Chips\nSurvival cooking is easy\, delicious meals with minimal ingredients\nEasy to read recipies and cookbooks will be handed out to take home and use\nEveryone pitches in for cleanup\n\n*ALL PARTICIPANTS MUST REGISTER IN ADVANCE FOR IN-PERSON ACTIVITIES. PLEASE USE (419) 502-4180 OR COMMUNITYCONNECTIONS@ERIECBDD.ORG TO REGISTER.\nRegistration through community connections is for Individuals receiving our services*
URL:https://www.eriecbdd.org/event/4-survival-cooking-2/
LOCATION:Tech Home\, 2205 Campbell St\, Sandusky\, OH\, 44870\, United States
ATTACH;FMTTYPE=image/jpeg:https://www.eriecbdd.org/wp-content/uploads/2024/12/Cooking.jpg
END:VEVENT
BEGIN:VEVENT
DTSTART;TZID=America/New_York:20250702T163000
DTEND;TZID=America/New_York:20250702T193000
DTSTAMP:20260425T101120
CREATED:20250618T174814Z
LAST-MODIFIED:20250618T174814Z
UID:15621-1751473800-1751484600@www.eriecbdd.org
SUMMARY:5. Canoe Ride at Old Woman Creek
DESCRIPTION:WEDNESDAY\, JULY 2\n4:30 PM TO 7:30 PM\nOLD WOMAN CREEK\, HURON \n\nExplore Old Woman Creek waterways by canoe ride\nThose bringing their own canoe or kayak also welcome (please let us know when you register)\nAdditional participants may be added depending on their skill level and experience\nPLEASE TELL US IF YOU WANT TO KAYAK SOLO (must have kayak skills & experience)\n\n*ALL PARTICIPANTS MUST REGISTER IN ADVANCE FOR IN-PERSON ACTIVITIES. PLEASE USE (419) 502-4180 OR COMMUNITYCONNECTIONS@ERIECBDD.ORG TO REGISTER.\nRegistration through community connections is for Individuals receiving our services*
URL:https://www.eriecbdd.org/event/5-canoe-ride-at-old-woman-creek/
LOCATION:Old Woman Creek\, 2514 Cleveland Rd E\, Huron\, OH\, 44839
ATTACH;FMTTYPE=image/jpeg:https://www.eriecbdd.org/wp-content/uploads/2024/12/Canoe-Rides.jpg
END:VEVENT
BEGIN:VEVENT
DTSTART;TZID=America/New_York:20250702T190000
DTEND;TZID=America/New_York:20250702T213000
DTSTAMP:20260425T101120
CREATED:20250618T174908Z
LAST-MODIFIED:20250618T174908Z
UID:15623-1751482800-1751491800@www.eriecbdd.org
SUMMARY:6. Sunset Cruise on the Goodtime I
DESCRIPTION:WEDNESDAY\, JULY 2\n7:00 PM TO 9:30 PM\nJACKSON STREET PIER\, SANDUSKY \n\nCost is for ticket only\nBring extra money if you would like to purchase pizza and/or pop\n\n*ALL PARTICIPANTS MUST REGISTER IN ADVANCE FOR IN-PERSON ACTIVITIES. PLEASE USE (419) 502-4180 OR COMMUNITYCONNECTIONS@ERIECBDD.ORG TO REGISTER.\nRegistration through community connections is for Individuals receiving our services*
URL:https://www.eriecbdd.org/event/6-sunset-cruise-on-the-goodtime-i/
LOCATION:Jackson Street Pier\, 100 Jackson St\, Sandusky\, OH\, 44870
ATTACH;FMTTYPE=image/jpeg:https://www.eriecbdd.org/wp-content/uploads/2024/12/Cruise.jpg
END:VEVENT
END:VCALENDAR