BEGIN:VCALENDAR
VERSION:2.0
PRODID:-//Erie County Board of Developmental Disabilities - ECPv6.15.20//NONSGML v1.0//EN
CALSCALE:GREGORIAN
METHOD:PUBLISH
X-ORIGINAL-URL:https://www.eriecbdd.org
X-WR-CALDESC:Events for Erie County Board of Developmental Disabilities
REFRESH-INTERVAL;VALUE=DURATION:PT1H
X-Robots-Tag:noindex
X-PUBLISHED-TTL:PT1H
BEGIN:VTIMEZONE
TZID:America/New_York
BEGIN:DAYLIGHT
TZOFFSETFROM:-0500
TZOFFSETTO:-0400
TZNAME:EDT
DTSTART:20240310T070000
END:DAYLIGHT
BEGIN:STANDARD
TZOFFSETFROM:-0400
TZOFFSETTO:-0500
TZNAME:EST
DTSTART:20241103T060000
END:STANDARD
BEGIN:DAYLIGHT
TZOFFSETFROM:-0500
TZOFFSETTO:-0400
TZNAME:EDT
DTSTART:20250309T070000
END:DAYLIGHT
BEGIN:STANDARD
TZOFFSETFROM:-0400
TZOFFSETTO:-0500
TZNAME:EST
DTSTART:20251102T060000
END:STANDARD
BEGIN:DAYLIGHT
TZOFFSETFROM:-0500
TZOFFSETTO:-0400
TZNAME:EDT
DTSTART:20260308T070000
END:DAYLIGHT
BEGIN:STANDARD
TZOFFSETFROM:-0400
TZOFFSETTO:-0500
TZNAME:EST
DTSTART:20261101T060000
END:STANDARD
END:VTIMEZONE
BEGIN:VEVENT
DTSTART;TZID=America/New_York:20250703T103000
DTEND;TZID=America/New_York:20250703T120000
DTSTAMP:20260425T102241
CREATED:20250618T175139Z
LAST-MODIFIED:20250618T175139Z
UID:15625-1751538600-1751544000@www.eriecbdd.org
SUMMARY:7. 4th of July Diamond Art
DESCRIPTION:THUSRSDAY\, JULY 3\n10:30 AM TO 12:00 PM\nVITA\, SANDUSKY \n\nMake a 4th of July star with diamond art\nSome folks may stay for lunch\nBring money for any purchases\n\n*ALL PARTICIPANTS MUST REGISTER IN ADVANCE FOR IN-PERSON ACTIVITIES. PLEASE USE (419) 502-4180 OR COMMUNITYCONNECTIONS@ERIECBDD.ORG TO REGISTER.\nRegistration through community connections is for Individuals receiving our services*
URL:https://www.eriecbdd.org/event/7-4th-of-july-diamond-art/
LOCATION:Vita\, 256 Columbus Ave\, Sandusky\, OH\, 44870
ATTACH;FMTTYPE=image/jpeg:https://www.eriecbdd.org/wp-content/uploads/2025/06/Memorial-Day4th-of-JulyVeterans-Day.jpg
END:VEVENT
BEGIN:VEVENT
DTSTART;TZID=America/New_York:20250703T130000
DTEND;TZID=America/New_York:20250703T163000
DTSTAMP:20260425T102241
CREATED:20250618T184101Z
LAST-MODIFIED:20250618T184101Z
UID:15628-1751547600-1751560200@www.eriecbdd.org
SUMMARY:8. Let’s Get Lost: Port Clinton
DESCRIPTION:THURSDAY\, JULY 3\n1:00 PM TO 4:30 PM\nERIE COUNTY BOARD OF DD \n\nGet lost and explore around Port Clinton\nMUST BRING A WHITE COTTON ITEM TO TIE DYE (hostedd by the library)\nBring money for any shopping/treats we may find\n\n*ALL PARTICIPANTS MUST REGISTER IN ADVANCE FOR IN-PERSON ACTIVITIES. PLEASE USE (419) 502-4180 OR COMMUNITYCONNECTIONS@ERIECBDD.ORG TO REGISTER.\nRegistration through community connections is for Individuals receiving our services*\n 
URL:https://www.eriecbdd.org/event/8-lets-get-lost-port-clinton/
LOCATION:Erie County Board of Developmental Disabilities\, 4405 Galloway Rd\, Sandusky\, OH\, 44870
ATTACH;FMTTYPE=image/jpeg:https://www.eriecbdd.org/wp-content/uploads/2024/12/Get-Lost.jpg
END:VEVENT
BEGIN:VEVENT
DTSTART;TZID=America/New_York:20250703T183000
DTEND;TZID=America/New_York:20250703T213000
DTSTAMP:20260425T102241
CREATED:20250618T185640Z
LAST-MODIFIED:20250618T185640Z
UID:15630-1751567400-1751578200@www.eriecbdd.org
SUMMARY:9. Drumline Concert at the Pier
DESCRIPTION:THURSDAY\, JULY 3\n6:30 PM TO 9:30 PM\nJACKSON STREET PIER\, SANDUSKY \n\nDrumline is a Lange Trust event\nShow may go longer than 9:30\nBring your own chair or blanket to sit on\n\n*ALL PARTICIPANTS MUST REGISTER IN ADVANCE FOR IN-PERSON ACTIVITIES. PLEASE USE (419) 502-4180 OR COMMUNITYCONNECTIONS@ERIECBDD.ORG TO REGISTER.\nRegistration through community connections is for Individuals receiving our services*
URL:https://www.eriecbdd.org/event/9-drumline-concert-at-the-pier/
LOCATION:Jackson Street Pier\, 100 Jackson St\, Sandusky\, OH\, 44870
ATTACH;FMTTYPE=image/jpeg:https://www.eriecbdd.org/wp-content/uploads/2025/06/Show.jpg
END:VEVENT
END:VCALENDAR