BEGIN:VCALENDAR
VERSION:2.0
PRODID:-//Erie County Board of Developmental Disabilities - ECPv6.15.20//NONSGML v1.0//EN
CALSCALE:GREGORIAN
METHOD:PUBLISH
X-ORIGINAL-URL:https://www.eriecbdd.org
X-WR-CALDESC:Events for Erie County Board of Developmental Disabilities
REFRESH-INTERVAL;VALUE=DURATION:PT1H
X-Robots-Tag:noindex
X-PUBLISHED-TTL:PT1H
BEGIN:VTIMEZONE
TZID:America/New_York
BEGIN:DAYLIGHT
TZOFFSETFROM:-0500
TZOFFSETTO:-0400
TZNAME:EDT
DTSTART:20240310T070000
END:DAYLIGHT
BEGIN:STANDARD
TZOFFSETFROM:-0400
TZOFFSETTO:-0500
TZNAME:EST
DTSTART:20241103T060000
END:STANDARD
BEGIN:DAYLIGHT
TZOFFSETFROM:-0500
TZOFFSETTO:-0400
TZNAME:EDT
DTSTART:20250309T070000
END:DAYLIGHT
BEGIN:STANDARD
TZOFFSETFROM:-0400
TZOFFSETTO:-0500
TZNAME:EST
DTSTART:20251102T060000
END:STANDARD
BEGIN:DAYLIGHT
TZOFFSETFROM:-0500
TZOFFSETTO:-0400
TZNAME:EDT
DTSTART:20260308T070000
END:DAYLIGHT
BEGIN:STANDARD
TZOFFSETFROM:-0400
TZOFFSETTO:-0500
TZNAME:EST
DTSTART:20261101T060000
END:STANDARD
END:VTIMEZONE
BEGIN:VEVENT
DTSTART;TZID=America/New_York:20250718T173000
DTEND;TZID=America/New_York:20250718T190000
DTSTAMP:20260425T102113
CREATED:20250623T153205Z
LAST-MODIFIED:20250623T153205Z
UID:15708-1752859800-1752865200@www.eriecbdd.org
SUMMARY:37. Evening Kayak at Erie Metro Parks
DESCRIPTION:FRIDAY\, JULY 18\n5:30 PM TO 7:00 PM\nENCHANTED COTTAGE METRO PARK\, SANDUSKY \n\nExplore the calm waters of Sandusky Bay with Erie Metro Parks staff\nTwo person kayak provided\nPlease let us know if you are bringing your own boat\n\n*ALL PARTICIPANTS MUST REGISTER IN ADVANCE FOR IN-PERSON ACTIVITIES. PLEASE USE (419) 502-4180 OR COMMUNITYCONNECTIONS@ERIECBDD.ORG TO REGISTER.\nRegistration through community connections is for Individuals receiving our services*
URL:https://www.eriecbdd.org/event/37-evening-kayak-at-erie-metro-parks/
LOCATION:Enchanted Cottage Metro Park\, 4011 Cleveland Rd West\, Sandusky\, OH\, 44870\, United States
ATTACH;FMTTYPE=image/jpeg:https://www.eriecbdd.org/wp-content/uploads/2024/12/Canoe-Rides.jpg
END:VEVENT
BEGIN:VEVENT
DTSTART;TZID=America/New_York:20250718T200000
DTEND;TZID=America/New_York:20250718T220000
DTSTAMP:20260425T102113
CREATED:20250623T153332Z
LAST-MODIFIED:20250623T153332Z
UID:15711-1752868800-1752876000@www.eriecbdd.org
SUMMARY:38. Karaoke At The Old Dutch
DESCRIPTION:FRIDAY\, JULY 18\n8:00 PM TO 10:00 PM\nOLD DUTCH TAVERN\, SANDUSKY  \n\nJam out to your favorite songs during karaoke or sing along style\nBring money for food\, drink\, and tip\n\n*ALL PARTICIPANTS MUST REGISTER IN ADVANCE FOR IN-PERSON ACTIVITIES. PLEASE USE (419) 502-4180 OR COMMUNITYCONNECTIONS@ERIECBDD.ORG TO REGISTER.\nRegistration through community connections is for Individuals receiving our services*
URL:https://www.eriecbdd.org/event/38-karaoke-at-the-old-dutch/
LOCATION:Old Dutch Tavern\, 2219 E Perkins Avenue\, Sandusky\, OH\, 44870
ATTACH;FMTTYPE=image/jpeg:https://www.eriecbdd.org/wp-content/uploads/2025/03/Music.jpg
END:VEVENT
END:VCALENDAR