BEGIN:VCALENDAR
VERSION:2.0
PRODID:-//Erie County Board of Developmental Disabilities - ECPv6.15.20//NONSGML v1.0//EN
CALSCALE:GREGORIAN
METHOD:PUBLISH
X-ORIGINAL-URL:https://www.eriecbdd.org
X-WR-CALDESC:Events for Erie County Board of Developmental Disabilities
REFRESH-INTERVAL;VALUE=DURATION:PT1H
X-Robots-Tag:noindex
X-PUBLISHED-TTL:PT1H
BEGIN:VTIMEZONE
TZID:America/New_York
BEGIN:DAYLIGHT
TZOFFSETFROM:-0500
TZOFFSETTO:-0400
TZNAME:EDT
DTSTART:20250309T070000
END:DAYLIGHT
BEGIN:STANDARD
TZOFFSETFROM:-0400
TZOFFSETTO:-0500
TZNAME:EST
DTSTART:20251102T060000
END:STANDARD
BEGIN:DAYLIGHT
TZOFFSETFROM:-0500
TZOFFSETTO:-0400
TZNAME:EDT
DTSTART:20260308T070000
END:DAYLIGHT
BEGIN:STANDARD
TZOFFSETFROM:-0400
TZOFFSETTO:-0500
TZNAME:EST
DTSTART:20261101T060000
END:STANDARD
BEGIN:DAYLIGHT
TZOFFSETFROM:-0500
TZOFFSETTO:-0400
TZNAME:EDT
DTSTART:20270314T070000
END:DAYLIGHT
BEGIN:STANDARD
TZOFFSETFROM:-0400
TZOFFSETTO:-0500
TZNAME:EST
DTSTART:20271107T060000
END:STANDARD
END:VTIMEZONE
BEGIN:VEVENT
DTSTART;TZID=America/New_York:20260519T123000
DTEND;TZID=America/New_York:20260519T140000
DTSTAMP:20260422T031517
CREATED:20260421T132748Z
LAST-MODIFIED:20260421T132748Z
UID:18207-1779193800-1779199200@www.eriecbdd.org
SUMMARY:30. Pool at Cheers
DESCRIPTION:TUESDAY\, MAY 19\n12:30 PM TO 2:00 PM\nCHEERS SPORTS BAR & GRILL\, SANDUSKY  \n$5.00 \n\nPlay pool with a group at Cheers\nPlease bring quarters so we can split the cost for the pool tables\nBring extra money if you would like to play darts or purchase food/drink\nECBDD staff may stop in to assist anyone new to pool; will not stay for the entire event\n\n*ALL PARTICIPANTS MUST REGISTER IN ADVANCE FOR IN-PERSON ACTIVITIES. PLEASE USE (419) 502-4180 OR COMMUNITYCONNECTIONS@ERIECBDD.ORG TO REGISTER.\nRegistration through community connections is for Individuals receiving our services*
URL:https://www.eriecbdd.org/event/30-pool-at-cheers-3/
LOCATION:Cheers Sports Bar & Grill\, 4313 Milan Rd\, Sandusky\, OH\, 44870\, United States
ATTACH;FMTTYPE=image/jpeg:https://www.eriecbdd.org/wp-content/uploads/2024/12/Pool.jpg
END:VEVENT
BEGIN:VEVENT
DTSTART;TZID=America/New_York:20260520T100000
DTEND;TZID=America/New_York:20260520T160000
DTSTAMP:20260422T031517
CREATED:20260421T133120Z
LAST-MODIFIED:20260421T133120Z
UID:18209-1779271200-1779292800@www.eriecbdd.org
SUMMARY:31. Worden's Ledges Loop Trail Metro Park
DESCRIPTION:WEDNESDAY\, MAY 20\n10:00 AM TO 4:00 PM\nWORDEN’S LEDGES\, HINCKLEY  \nMEET @ ECBDD \n$15.00 \n\nThis is a cool hike that is a hunt for carvings in stone\nWe will stop for lunch before we go on hike\n\n*ALL PARTICIPANTS MUST REGISTER IN ADVANCE FOR IN-PERSON ACTIVITIES. PLEASE USE (419) 502-4180 OR COMMUNITYCONNECTIONS@ERIECBDD.ORG TO REGISTER.\nRegistration through community connections is for Individuals receiving our services*
URL:https://www.eriecbdd.org/event/31-wordens-ledges-loop-trail-metro-park/
LOCATION:Erie County Board of Developmental Disabilities\, 4405 Galloway Rd\, Sandusky\, OH\, 44870
ATTACH;FMTTYPE=image/jpeg:https://www.eriecbdd.org/wp-content/uploads/2024/12/Hiking.jpg
END:VEVENT
BEGIN:VEVENT
DTSTART;TZID=America/New_York:20260520T130000
DTEND;TZID=America/New_York:20260520T143000
DTSTAMP:20260422T031517
CREATED:20260421T133428Z
LAST-MODIFIED:20260421T133428Z
UID:18213-1779282000-1779287400@www.eriecbdd.org
SUMMARY:32. Ice Cream & Ice Breakers: Mikey's
DESCRIPTION:WEDNESDAY\, MAY 20\n1:00 PM TO 2:30 PM\nMIKEY’S FROZEN YOGURT\, SANDUSKY  \n$10.00 \n\nThemed ice breaker questions\nMikey’s is a frozen yogurt treat paid for by weight\nBring money for your purchase\n\n*ALL PARTICIPANTS MUST REGISTER IN ADVANCE FOR IN-PERSON ACTIVITIES. PLEASE USE (419) 502-4180 OR COMMUNITYCONNECTIONS@ERIECBDD.ORG TO REGISTER.\nRegistration through community connections is for Individuals receiving our services*
URL:https://www.eriecbdd.org/event/32-ice-cream-ice-breakers-mikeys/
LOCATION:Mikey’s Frozen Yogurt\, 414 W Perkins Ave\, Sandusky\, OH\, 44870\, United States
ATTACH;FMTTYPE=image/jpeg:https://www.eriecbdd.org/wp-content/uploads/2024/12/Ice-Cream.jpg
END:VEVENT
BEGIN:VEVENT
DTSTART;TZID=America/New_York:20260520T163000
DTEND;TZID=America/New_York:20260520T193000
DTSTAMP:20260422T031517
CREATED:20260421T133618Z
LAST-MODIFIED:20260421T133618Z
UID:18215-1779294600-1779305400@www.eriecbdd.org
SUMMARY:33. Spa Night at EHOVE
DESCRIPTION:WEDNESDAY\, MAY 20\n4:30 PM TO 7:30 PM\nEHOVE CAREER CENTER\, MILAN  \n$15.00 \n\nEnjoy a night at the spa with EHOVE cosmetology students\nMany services such as manicure\, pedicure\, facial\, waxing\, haircuts\nPrices will depend on services\, please make sure to bring enough money\nPick up time may be earlier or later depnding on length of services\n\n*ALL PARTICIPANTS MUST REGISTER IN ADVANCE FOR IN-PERSON ACTIVITIES. PLEASE USE (419) 502-4180 OR COMMUNITYCONNECTIONS@ERIECBDD.ORG TO REGISTER.\nRegistration through community connections is for Individuals receiving our services*
URL:https://www.eriecbdd.org/event/33-spa-night-at-ehove/
LOCATION:EHOVE Career Center\, 316 West Mason Rd\, Milan\, OH\, 44846
ATTACH;FMTTYPE=image/jpeg:https://www.eriecbdd.org/wp-content/uploads/2024/12/Spa.jpg
END:VEVENT
BEGIN:VEVENT
DTSTART;TZID=America/New_York:20260521T103000
DTEND;TZID=America/New_York:20260521T140000
DTSTAMP:20260422T031517
CREATED:20260421T133815Z
LAST-MODIFIED:20260421T133815Z
UID:18217-1779359400-1779372000@www.eriecbdd.org
SUMMARY:34. Spring Geocaching in Monroeville
DESCRIPTION:THURSDAY\, MAY 21\n10:30 AM TO 2:00 PM\nMEET AT ERIE COUNTY BOARD OF DD \n\nWe will be doing some fun geocaching in a new town\nWe will stop for dinner at a place you choose as a group\nFind treasures and leave treasures\nDress for the weather\n\n*ALL PARTICIPANTS MUST REGISTER IN ADVANCE FOR IN-PERSON ACTIVITIES. PLEASE USE (419) 502-4180 OR COMMUNITYCONNECTIONS@ERIECBDD.ORG TO REGISTER.\nRegistration through community connections is for Individuals receiving our services*
URL:https://www.eriecbdd.org/event/34-spring-geocaching-in-monroeville/
LOCATION:Erie County Board of Developmental Disabilities\, 4405 Galloway Rd\, Sandusky\, OH\, 44870
ATTACH;FMTTYPE=image/jpeg:https://www.eriecbdd.org/wp-content/uploads/2024/12/Geocaching.jpg
END:VEVENT
BEGIN:VEVENT
DTSTART;TZID=America/New_York:20260521T143000
DTEND;TZID=America/New_York:20260521T160000
DTSTAMP:20260422T031517
CREATED:20260421T133912Z
LAST-MODIFIED:20260421T133912Z
UID:18219-1779373800-1779379200@www.eriecbdd.org
SUMMARY:35. UNO & Games at the Pop Shop
DESCRIPTION:THURSDAY\, MAY 21\n2:30 PM TO 4:00 PM\nTHE POP! SHOP\, SANDUSKY \n\nPlay UNO or other fun games at the Pop Shop\nNo Mercy\, Giant Card UNO\, UNO Attack\nBring your favorite UNO game\n\n*ALL PARTICIPANTS MUST REGISTER IN ADVANCE FOR IN-PERSON ACTIVITIES. PLEASE USE (419) 502-4180 OR COMMUNITYCONNECTIONS@ERIECBDD.ORG TO REGISTER.\nRegistration through community connections is for Individuals receiving our services*
URL:https://www.eriecbdd.org/event/35-uno-games-at-the-pop-shop/
LOCATION:The POP! Shop\, 3104 Milan Ave\, Sandusky\, OH\, 44870
ATTACH;FMTTYPE=image/jpeg:https://www.eriecbdd.org/wp-content/uploads/2024/12/UNO-Pop-Shop.jpg
END:VEVENT
BEGIN:VEVENT
DTSTART;TZID=America/New_York:20260521T180000
DTEND;TZID=America/New_York:20260521T193000
DTSTAMP:20260422T031517
CREATED:20260421T134020Z
LAST-MODIFIED:20260421T134020Z
UID:18221-1779386400-1779391800@www.eriecbdd.org
SUMMARY:36. Art in the Park: MirandA.R.T.
DESCRIPTION:THURSDAY\, MAY 21\n6:00 PM TO 7:30 PM\nOSBORN METRO PARK\, HURON \n\nJoin Erie Metro Parks and MirandA.R.T.\nWe will be making a beautiful birdhouse\n\n*ALL PARTICIPANTS MUST REGISTER IN ADVANCE FOR IN-PERSON ACTIVITIES. PLEASE USE (419) 502-4180 OR COMMUNITYCONNECTIONS@ERIECBDD.ORG TO REGISTER.\nRegistration through community connections is for Individuals receiving our services*
URL:https://www.eriecbdd.org/event/36-art-in-the-park-miranda-r-t/
LOCATION:Osborn Metro Park Roger Johnson Nature Center\, 3910 Perkins Avenue\, Huron\, OH\, 44839
ATTACH;FMTTYPE=image/jpeg:https://www.eriecbdd.org/wp-content/uploads/2024/12/Art-.jpg
END:VEVENT
BEGIN:VEVENT
DTSTART;TZID=America/New_York:20260522T093000
DTEND;TZID=America/New_York:20260522T113000
DTSTAMP:20260422T031517
CREATED:20260421T134116Z
LAST-MODIFIED:20260421T134116Z
UID:18223-1779442200-1779449400@www.eriecbdd.org
SUMMARY:37. Old Woman Creek Hike & Help
DESCRIPTION:FRIDAY\, MAY 22\n9:30 AM TO 11:30 AM\nOLD WOMAN CREEK\, HURON \n\nSpring hike with Old Woman Creek\nWe will hike & also volunteer helping to pull mustard weeds\nDress for the weather\, wear walking/hiking shoes\n\n*ALL PARTICIPANTS MUST REGISTER IN ADVANCE FOR IN-PERSON ACTIVITIES. PLEASE USE (419) 502-4180 OR COMMUNITYCONNECTIONS@ERIECBDD.ORG TO REGISTER.\nRegistration through community connections is for Individuals receiving our services*
URL:https://www.eriecbdd.org/event/37-old-woman-creek-hike-help/
LOCATION:Old Woman Creek\, 2514 Cleveland Rd E\, Huron\, OH\, 44839
ATTACH;FMTTYPE=image/jpeg:https://www.eriecbdd.org/wp-content/uploads/2025/04/Outdoors.jpg
END:VEVENT
BEGIN:VEVENT
DTSTART;TZID=America/New_York:20260522T143000
DTEND;TZID=America/New_York:20260522T160000
DTSTAMP:20260422T031517
CREATED:20260421T134200Z
LAST-MODIFIED:20260421T134200Z
UID:18225-1779460200-1779465600@www.eriecbdd.org
SUMMARY:38. Darts at Clubhouse No. 3
DESCRIPTION:FRIDAY\, MAY 22\n2:30 PM TO 4:00 PM\nCLUBHOUSE NO. 3\, SANDUSKY  \n$5.00 \n\nPlay darts at Clubhouse No. 3\nMoney is for game\, bring additional money for drinks\nBring cash so we can split the cost for activities\nPlay shuffleboard at an additional cost\n\n*ALL PARTICIPANTS MUST REGISTER IN ADVANCE FOR IN-PERSON ACTIVITIES. PLEASE USE (419) 502-4180 OR COMMUNITYCONNECTIONS@ERIECBDD.ORG TO REGISTER.\nRegistration through community connections is only for individuals receiving our services*\n  \n\n\n 
URL:https://www.eriecbdd.org/event/38-darts-at-clubhouse-no-3/
LOCATION:Clubhouse No. 3\, 220 E Water St\, Sandusky\, OH\, 44870
ATTACH;FMTTYPE=image/jpeg:https://www.eriecbdd.org/wp-content/uploads/2024/12/Dart-Board.jpg
END:VEVENT
BEGIN:VEVENT
DTSTART;TZID=America/New_York:20260525T073000
DTEND;TZID=America/New_York:20260525T163000
DTSTAMP:20260422T031517
CREATED:20251218T162527Z
LAST-MODIFIED:20251218T162527Z
UID:17387-1779694200-1779726600@www.eriecbdd.org
SUMMARY:Office Closed: Memorial Day
DESCRIPTION:Office closed in observation of Memorial Day on Monday\, May 25.\nBusiness hours will resume Tuesday\, May 26.\nIf you need assistance\, please call our Crisis Hotline: (419) 626-1752
URL:https://www.eriecbdd.org/event/office-closed-memorial-day-2/
LOCATION:OH
ATTACH;FMTTYPE=image/jpeg:https://www.eriecbdd.org/wp-content/uploads/2025/04/Closed-1.jpg
END:VEVENT
BEGIN:VEVENT
DTSTART;TZID=America/New_York:20260526T100000
DTEND;TZID=America/New_York:20260526T110000
DTSTAMP:20260422T031517
CREATED:20260421T134224Z
LAST-MODIFIED:20260421T134224Z
UID:18227-1779789600-1779793200@www.eriecbdd.org
SUMMARY:39. Chair Yoga
DESCRIPTION:TUESDAY\, MAY 26\n10:00 AM TO 11:00 AM\nSANDUSKY LIBRARY \n\nConnect and unwind; yoga has proven benefits to your body and mind\nHosted by Open Way Yoga Studio\n\n*All participants must register in advance for in-person activities. Please use (419) 502-4180 or communityconnections@eriecbdd.org to register.\nRegistration through community connections is for Individuals receiving our services*
URL:https://www.eriecbdd.org/event/39-chair-yoga/
LOCATION:Sandusky Library\, 114 West Adams St\, Sandusky\, OH\, 44870
ATTACH;FMTTYPE=image/jpeg:https://www.eriecbdd.org/wp-content/uploads/2026/04/Calm.jpg
END:VEVENT
BEGIN:VEVENT
DTSTART;TZID=America/New_York:20260526T120000
DTEND;TZID=America/New_York:20260526T133000
DTSTAMP:20260422T031517
CREATED:20260421T134443Z
LAST-MODIFIED:20260421T134443Z
UID:18229-1779796800-1779802200@www.eriecbdd.org
SUMMARY:40. Ice Cream and Ice Breakers: Eats & Treats
DESCRIPTION:TUESDAY\, MAY 26\n12:00 PM TO 1:30 PM\nEATS & TREATS\, SANDUSKY \n$10.00 \n\nThemed icebreaker questions\nMoney is for your purchase\n\n*ALL PARTICIPANTS MUST REGISTER IN ADVANCE FOR IN-PERSON ACTIVITIES. PLEASE USE (419) 502-4180 OR COMMUNITYCONNECTIONS@ERIECBDD.ORG TO REGISTER.\nRegistration through community connections is for Individuals receiving our services*
URL:https://www.eriecbdd.org/event/40-ice-cream-and-ice-breakers-eats-treats/
LOCATION:Eats & Treats\, 2315 E Perkins Ave\, Sandusky\, OH\, 44870
ATTACH;FMTTYPE=image/jpeg:https://www.eriecbdd.org/wp-content/uploads/2024/12/Ice-Cream.jpg
END:VEVENT
BEGIN:VEVENT
DTSTART;TZID=America/New_York:20260526T143000
DTEND;TZID=America/New_York:20260526T143000
DTSTAMP:20260422T031517
CREATED:20260421T141254Z
LAST-MODIFIED:20260421T141302Z
UID:18231-1779805800-1779805800@www.eriecbdd.org
SUMMARY:41. Pool at Cheers
DESCRIPTION:TUESDAY\, MAY 26\n2:30 PM TO 4:00 PM\nCHEERS SPORTS BAR & GRILL\, SANDUSKY  \n$5.00 \n\nPlay pool with a group at Cheers\nPlease bring quarters so we can split the cost for the pool tables\nBring extra money if you would like to play darts or purchase food/drink\nECBDD staff may stop in to assist anyone new to pool; will not stay for the entire event\n\n*ALL PARTICIPANTS MUST REGISTER IN ADVANCE FOR IN-PERSON ACTIVITIES. PLEASE USE (419) 502-4180 OR COMMUNITYCONNECTIONS@ERIECBDD.ORG TO REGISTER.\nRegistration through community connections is for Individuals receiving our services*
URL:https://www.eriecbdd.org/event/41-pool-at-cheers/
LOCATION:Cheers Sports Bar & Grill\, 4313 Milan Rd\, Sandusky\, OH\, 44870\, United States
ATTACH;FMTTYPE=image/jpeg:https://www.eriecbdd.org/wp-content/uploads/2024/12/Pool.jpg
END:VEVENT
BEGIN:VEVENT
DTSTART;TZID=America/New_York:20260526T180000
DTEND;TZID=America/New_York:20260526T203000
DTSTAMP:20260422T031517
CREATED:20260421T141547Z
LAST-MODIFIED:20260421T141547Z
UID:18233-1779818400-1779827400@www.eriecbdd.org
SUMMARY:42. Trivia Night at Pier Pub
DESCRIPTION:TUESDAY\, MAY 26\n6:00 PM TO 8:30 PM\nPIER PUB\, HURON  \n$25.00 \n\nCome play trivia and have good food with friends\n\n*ALL PARTICIPANTS MUST REGISTER IN ADVANCE FOR IN-PERSON ACTIVITIES. PLEASE USE (419) 502-4180 OR COMMUNITYCONNECTIONS@ERIECBDD.ORG TO REGISTER.\nRegistration through community connections is for Individuals receiving our services*
URL:https://www.eriecbdd.org/event/42-trivia-night-at-pier-pub/
LOCATION:Pier Pub\, 38 Main Street\, Huron\, OH\, 44839\, United States
ATTACH;FMTTYPE=image/jpeg:https://www.eriecbdd.org/wp-content/uploads/2024/12/Trivia.jpg
END:VEVENT
BEGIN:VEVENT
DTSTART;TZID=America/New_York:20260527T103000
DTEND;TZID=America/New_York:20260527T120000
DTSTAMP:20260422T031517
CREATED:20260421T141723Z
LAST-MODIFIED:20260421T141723Z
UID:18236-1779877800-1779883200@www.eriecbdd.org
SUMMARY:43. Diamond Art: Birds
DESCRIPTION:WEDNESDAY\, MAY 27\n10:30 AM TO 12:00 PM\nMR. SMITH’S COFFEE HOUSE\, SANDUSKY \n\nMake a diamond art piece; bird & plant inspired\nBring money for your purchase\n\n*ALL PARTICIPANTS MUST REGISTER IN ADVANCE FOR IN-PERSON ACTIVITIES. PLEASE USE (419) 502-4180 OR COMMUNITYCONNECTIONS@ERIECBDD.ORG TO REGISTER.\nRegistration through community connections is for Individuals receiving our services*
URL:https://www.eriecbdd.org/event/43-diamond-art-birds/
LOCATION:Mr. Smith’s Coffee House\, 140 Columbus Ave\, Sandusky\, OH\, 44870
ATTACH;FMTTYPE=image/jpeg:https://www.eriecbdd.org/wp-content/uploads/2026/03/Bird.jpg
END:VEVENT
BEGIN:VEVENT
DTSTART;TZID=America/New_York:20260527T140000
DTEND;TZID=America/New_York:20260527T150000
DTSTAMP:20260422T031517
CREATED:20260421T141909Z
LAST-MODIFIED:20260421T141909Z
UID:18238-1779890400-1779894000@www.eriecbdd.org
SUMMARY:44. Relaxation Hour: Wellness Wednesday
DESCRIPTION:WEDNESDAY\, MAY 27\n2:00 PM TO 3:00 PM\nSANDUSKY LIBRARY \n\nTips and ideas for relaxation\nDon’t stress this summer; come learn at Wellness Wednesday\n\n*ALL PARTICIPANTS MUST REGISTER IN ADVANCE FOR IN-PERSON ACTIVITIES. PLEASE USE (419) 502-4180 OR COMMUNITYCONNECTIONS@ERIECBDD.ORG TO REGISTER.\nRegistration through community connections is for Individuals receiving our services*
URL:https://www.eriecbdd.org/event/44-relaxation-hour-wellness-wednesday/
LOCATION:Sandusky Library\, 114 West Adams St\, Sandusky\, OH\, 44870
ATTACH;FMTTYPE=image/jpeg:https://www.eriecbdd.org/wp-content/uploads/2024/12/Wellness.jpg
END:VEVENT
BEGIN:VEVENT
DTSTART;TZID=America/New_York:20260527T153000
DTEND;TZID=America/New_York:20260527T170000
DTSTAMP:20260422T031517
CREATED:20260421T142019Z
LAST-MODIFIED:20260421T142019Z
UID:18240-1779895800-1779901200@www.eriecbdd.org
SUMMARY:45. Survival Cooking
DESCRIPTION:WEDNESDAY\, MAY 27\n3:30 PM TO 5:00 PM\nECBDD TECH HOME\, SANDUSKY \n$3.00 \n\nWe will be making Sheet Pan Loaded Nachos\nThere will be a small fee for ingredients\nSurvival cooking is easy\, delicious meals with minimal ingredients\nEasy to read recipies and cookbooks will be handed out to take home and use\nEveryone pitches in for cleanup\n\n*ALL PARTICIPANTS MUST REGISTER IN ADVANCE FOR IN-PERSON ACTIVITIES. PLEASE USE (419) 502-4180 OR COMMUNITYCONNECTIONS@ERIECBDD.ORG TO REGISTER.\nRegistration through community connections is for Individuals receiving our services*
URL:https://www.eriecbdd.org/event/45-survival-cooking-2/
LOCATION:Tech Home\, 2205 Campbell St\, Sandusky\, OH\, 44870\, United States
ATTACH;FMTTYPE=image/jpeg:https://www.eriecbdd.org/wp-content/uploads/2024/12/Cooking.jpg
END:VEVENT
BEGIN:VEVENT
DTSTART;TZID=America/New_York:20260527T180000
DTEND;TZID=America/New_York:20260527T200000
DTSTAMP:20260422T031517
CREATED:20260421T142357Z
LAST-MODIFIED:20260421T142357Z
UID:18242-1779904800-1779912000@www.eriecbdd.org
SUMMARY:46. Music BINGO at Clubhouse No. 3
DESCRIPTION:WEDNESDAY\, MAY 27\n6:00 PM TO 8:00 PM\nCLUBHOUSE NO. 3\, SANDUSKY  \n\nCheck out Music BINGO at Clubhouse No. 3\nBring money if you would like to order from Archies food/drink\n\n*ALL PARTICIPANTS MUST REGISTER IN ADVANCE FOR IN-PERSON ACTIVITIES. PLEASE USE (419) 502-4180 OR COMMUNITYCONNECTIONS@ERIECBDD.ORG TO REGISTER. \nRegistration through community connections is only for individuals receiving our services*\n  \n\n\n 
URL:https://www.eriecbdd.org/event/46-music-bingo-at-clubhouse-no-3/
LOCATION:Clubhouse No. 3\, 220 E Water St\, Sandusky\, OH\, 44870
ATTACH;FMTTYPE=image/jpeg:https://www.eriecbdd.org/wp-content/uploads/2025/03/Music.jpg
END:VEVENT
BEGIN:VEVENT
DTSTART;TZID=America/New_York:20260528T100000
DTEND;TZID=America/New_York:20260528T170000
DTSTAMP:20260422T031517
CREATED:20260421T142601Z
LAST-MODIFIED:20260421T142601Z
UID:18244-1779962400-1779987600@www.eriecbdd.org
SUMMARY:47. Cleveland Zoo
DESCRIPTION:THURSDAY\, MAY 28\n10:00 AM TO 5:00 PM\nCLEVELAND ZOO\, CLEVELAND\nMEET @ ERIE CBDD \n$11.00 \n\nCost for the Zoo is $11.00 is to be paid by May 12\nWe will eat lunch at the Zoo\nBring extra money for lunch and any other purchases\n\n*ALL PARTICIPANTS MUST REGISTER IN ADVANCE FOR IN-PERSON ACTIVITIES. PLEASE USE (419) 502-4180 OR COMMUNITYCONNECTIONS@ERIECBDD.ORG TO REGISTER.\nRegistration through community connections is for Individuals receiving our services*
URL:https://www.eriecbdd.org/event/47-cleveland-zoo/
LOCATION:Cleveland Zoo\, 123 Zoo Dr\, Cleveland\, OH\, 44242
ATTACH;FMTTYPE=image/jpeg:https://www.eriecbdd.org/wp-content/uploads/2024/12/Zoo.jpg
END:VEVENT
BEGIN:VEVENT
DTSTART;TZID=America/New_York:20260528T163000
DTEND;TZID=America/New_York:20260528T180000
DTSTAMP:20260422T031517
CREATED:20260421T142916Z
LAST-MODIFIED:20260421T142916Z
UID:18247-1779985800-1779991200@www.eriecbdd.org
SUMMARY:48. Backyard Basketball
DESCRIPTION:THURSDAY\, MAY 28\n4:30 PM TO 6:00 PM\nLIONS PARK\, SANDUSKY  \n\nBasketball is back outside!\nPlay favorite backyard games or just shoot around\nMUST bring your own ball; also remember water & sunblock\n\n*ALL PARTICIPANTS MUST REGISTER IN ADVANCE FOR IN-PERSON ACTIVITIES. PLEASE USE (419) 502-4180 OR COMMUNITYCONNECTIONS@ERIECBDD.ORG TO REGISTER.\nRegistration through community connections is for Individuals receiving our services*
URL:https://www.eriecbdd.org/event/48-backyard-basketball/
LOCATION:Lions Park\, 533 Winnebago Ave\, Sandusky\, County Board\, 44870\, United States
ATTACH;FMTTYPE=image/jpeg:https://www.eriecbdd.org/wp-content/uploads/2025/07/Basketball.jpg
END:VEVENT
BEGIN:VEVENT
DTSTART;TZID=America/New_York:20260528T183000
DTEND;TZID=America/New_York:20260528T210000
DTSTAMP:20260422T031517
CREATED:20260421T143047Z
LAST-MODIFIED:20260421T143047Z
UID:18251-1779993000-1780002000@www.eriecbdd.org
SUMMARY:49. Trivia Night at Patina
DESCRIPTION:THURSDAY\, MAY 28\n6:30 PM TO 9:00 PM\nPATINA PORCH\, SANDUSKY \n\nPlay “Last Call Trivia” with friends at Patina Porch\nThis trivia game is played as a team but will use a phone to submit answers\nBring moeny for a meal/drink; Patina hosting $10 build your own salad/flatbread\n\n*ALL PARTICIPANTS MUST REGISTER IN ADVANCE FOR IN-PERSON ACTIVITIES. PLEASE USE (419) 502-4180 OR COMMUNITYCONNECTIONS@ERIECBDD.ORG TO REGISTER.\nRegistration through community connections is for Individuals receiving our services*
URL:https://www.eriecbdd.org/event/49-trivia-night-at-patina/
LOCATION:Patina Porch\, 2434 W Monroe St\, Sandusky\, OH\, 44870\, United States
ATTACH;FMTTYPE=image/jpeg:https://www.eriecbdd.org/wp-content/uploads/2024/12/Trivia.jpg
END:VEVENT
BEGIN:VEVENT
DTSTART;TZID=America/New_York:20260529T120000
DTEND;TZID=America/New_York:20260529T120000
DTSTAMP:20260422T031517
CREATED:20260421T143323Z
LAST-MODIFIED:20260421T143323Z
UID:18253-1780056000-1780056000@www.eriecbdd.org
SUMMARY:50. Horror Movie Hangout: Passenger
DESCRIPTION:FRIDAY\, MAY 29\n12:00 PM \nCINEMARK THEATER\, SANDUSKY  \n$10.00 \n\nCouple witnesses a horrific accident & demonic stalker follows them\nECBDD STAFF WILL NOT BE STAYING TO WATCH THE MOVIE; will help coordinate group to view this movie together\nFilm is set to be released 5/29; exact show time will be announced closer to event date\n\n*ALL PARTICIPANTS MUST REGISTER IN ADVANCE FOR IN-PERSON ACTIVITIES. PLEASE USE (419) 502-4180 OR COMMUNITYCONNECTIONS@ERIECBDD.ORG TO REGISTER.\nRegistration through community connections is for Individuals receiving our services*
URL:https://www.eriecbdd.org/event/50-horror-movie-hangout-passenger/
LOCATION:CInemark Stadium\, 4314 MIlan Road\, Sandusky\, OH\, 44870\, United States
ATTACH;FMTTYPE=image/jpeg:https://www.eriecbdd.org/wp-content/uploads/2025/05/OMG-Games.jpg
END:VEVENT
BEGIN:VEVENT
DTSTART;TZID=America/New_York:20260529T130000
DTEND;TZID=America/New_York:20260529T143000
DTSTAMP:20260422T031517
CREATED:20260421T143554Z
LAST-MODIFIED:20260421T143554Z
UID:18257-1780059600-1780065000@www.eriecbdd.org
SUMMARY:51. Celebrate Nature Preserves: Wildflower Hike
DESCRIPTION:FRIDAY\, MAY 29\n1:00 PM TO 2:30 PM\nSHELDON MARSH\, HURON \n\nODNR celebrates 50 years of Nature Preserves with wildflower hike\nHosted & led by Ohio Department of Natural Resources staff\nPaved walkway\n\n*ALL PARTICIPANTS MUST REGISTER IN ADVANCE FOR IN-PERSON ACTIVITIES. PLEASE USE (419) 502-4180 OR COMMUNITYCONNECTIONS@ERIECBDD.ORG TO REGISTER.\nRegistration through community connections is for Individuals receiving our services*
URL:https://www.eriecbdd.org/event/51-celebrate-nature-preserves-wildflower-hike/
LOCATION:Sheldon Marsh\, 2715 Cleveland Rd\, Huron\, OH\, 44839\, United States
ATTACH;FMTTYPE=image/jpeg:https://www.eriecbdd.org/wp-content/uploads/2025/03/Spring.jpg
END:VEVENT
BEGIN:VEVENT
DTSTART;TZID=America/New_York:20260619T073000
DTEND;TZID=America/New_York:20260619T163000
DTSTAMP:20260422T031517
CREATED:20251218T162639Z
LAST-MODIFIED:20251218T162639Z
UID:17389-1781854200-1781886600@www.eriecbdd.org
SUMMARY:Office Closed: Juneteenth
DESCRIPTION:Office closed in observation of Juneteenth on Friday\, June 19.\nBusiness hours will resume Monday\, June 22.\nIf you need assistance\, please call our Crisis Hotline: (419) 626-1752
URL:https://www.eriecbdd.org/event/office-closed-juneteenth-2/
LOCATION:OH
ATTACH;FMTTYPE=image/jpeg:https://www.eriecbdd.org/wp-content/uploads/2025/04/Closed-1.jpg
END:VEVENT
BEGIN:VEVENT
DTSTART;TZID=America/New_York:20260703T073000
DTEND;TZID=America/New_York:20260703T163000
DTSTAMP:20260422T031517
CREATED:20251218T162728Z
LAST-MODIFIED:20251218T162728Z
UID:17391-1783063800-1783096200@www.eriecbdd.org
SUMMARY:Office Closed: Independence Day
DESCRIPTION:Office closed in observation of Independence Day on Friday\, July 3.\nBusiness hours will resume Monday\, July 6.\nIf you need assistance\, please call our Crisis Hotline: (419) 626-1752
URL:https://www.eriecbdd.org/event/office-closed-independence-day/
LOCATION:OH
ATTACH;FMTTYPE=image/jpeg:https://www.eriecbdd.org/wp-content/uploads/2025/04/Closed-1.jpg
END:VEVENT
BEGIN:VEVENT
DTSTART;TZID=America/New_York:20260907T073000
DTEND;TZID=America/New_York:20260907T163000
DTSTAMP:20260422T031517
CREATED:20251218T162811Z
LAST-MODIFIED:20251218T162811Z
UID:17393-1788766200-1788798600@www.eriecbdd.org
SUMMARY:Office Closed: Labor Day
DESCRIPTION:Office closed in observation of Labor Day on Monday\, September 7.\nBusiness hours will resume Tuesday\, September 8.\nIf you need assistance\, please call our Crisis Hotline: (419) 626-1752
URL:https://www.eriecbdd.org/event/office-closed-labor-day-2/
LOCATION:OH
ATTACH;FMTTYPE=image/jpeg:https://www.eriecbdd.org/wp-content/uploads/2025/04/Closed-1.jpg
END:VEVENT
BEGIN:VEVENT
DTSTART;TZID=America/New_York:20261012T073000
DTEND;TZID=America/New_York:20261012T163000
DTSTAMP:20260422T031517
CREATED:20251218T162845Z
LAST-MODIFIED:20251218T162845Z
UID:17395-1791790200-1791822600@www.eriecbdd.org
SUMMARY:Office Closed: Columbus Day
DESCRIPTION:Office closed in observation of Columbus Day on Monday\, October 12.\nBusiness hours will resume Tuesday\, October 13.\nIf you need assistance\, please call our Crisis Hotline: (419) 626-1752
URL:https://www.eriecbdd.org/event/office-closed-columbus-day-2/
LOCATION:OH
ATTACH;FMTTYPE=image/jpeg:https://www.eriecbdd.org/wp-content/uploads/2025/04/Closed-1.jpg
END:VEVENT
BEGIN:VEVENT
DTSTART;TZID=America/New_York:20261111T073000
DTEND;TZID=America/New_York:20261111T163000
DTSTAMP:20260422T031517
CREATED:20251218T162921Z
LAST-MODIFIED:20251218T162921Z
UID:17397-1794382200-1794414600@www.eriecbdd.org
SUMMARY:Office Closed: Veterans Day
DESCRIPTION:Office closed in observation of Veterans Day on Wednesday\, November 11.\nBusiness hours will resume Thursday\, November 12.\nIf you need assistance\, please call our Crisis Hotline: (419) 626-1752
URL:https://www.eriecbdd.org/event/office-closed-veterans-day-2/
LOCATION:OH
ATTACH;FMTTYPE=image/jpeg:https://www.eriecbdd.org/wp-content/uploads/2025/04/Closed-1.jpg
END:VEVENT
BEGIN:VEVENT
DTSTART;TZID=America/New_York:20261126T073000
DTEND;TZID=America/New_York:20261127T163000
DTSTAMP:20260422T031517
CREATED:20251218T163110Z
LAST-MODIFIED:20251218T163110Z
UID:17399-1795678200-1795797000@www.eriecbdd.org
SUMMARY:Office Closed: Thanksgiving
DESCRIPTION:Office closed in observation of Thanksgiving on Thursday\, November 26 & Friday\, November 27.\nBusiness hours will resume Monday\, November 30.\nIf you need assistance\, please call our Crisis Hotline: (419) 626-1752
URL:https://www.eriecbdd.org/event/office-closed-thanksgiving-2/
LOCATION:OH
ATTACH;FMTTYPE=image/jpeg:https://www.eriecbdd.org/wp-content/uploads/2025/04/Closed-1.jpg
END:VEVENT
BEGIN:VEVENT
DTSTART;TZID=America/New_York:20261224T073000
DTEND;TZID=America/New_York:20261225T163000
DTSTAMP:20260422T031517
CREATED:20251218T164651Z
LAST-MODIFIED:20251218T164651Z
UID:17401-1798097400-1798216200@www.eriecbdd.org
SUMMARY:Office Closed: Christmas
DESCRIPTION:Office closed in observation of the Christmas holiday on Thursday\, December 24 and Friday\, December 25.\nBusiness hours will resume Monday\, December 28.\nIf you need assistance\, please call our Crisis Hotline: (419) 626-1752
URL:https://www.eriecbdd.org/event/office-closed-christmas-2/
LOCATION:OH
ATTACH;FMTTYPE=image/jpeg:https://www.eriecbdd.org/wp-content/uploads/2025/04/Closed-1.jpg
END:VEVENT
END:VCALENDAR